BEGIN:VCALENDAR
VERSION:2.0
PRODID:-//wp-events-plugin.com//7.2.3.1//EN
BEGIN:VEVENT
UID:2@ambassadorslifecenter.org
DTSTART:20231021T100000Z
DTEND:20231021T170000Z
DTSTAMP:20231013T115113Z
URL:https://ambassadorslifecenter.org/events/donations-volunteers-needed/
SUMMARY:Donations & Volunteers Needed
DESCRIPTION:\ndonations flyer
LOCATION:Ambassadors For Christ\, 125 Rock Quarry Rd \, Stockbridge\, GA\, 
 United States
X-APPLE-STRUCTURED-LOCATION;VALUE=URI;X-ADDRESS=125 Rock Quarry Rd \, Stock
 bridge\, GA\, United States;X-APPLE-RADIUS=100;X-TITLE=Ambassadors For Chr
 ist:geo:0,0
END:VEVENT
END:VCALENDAR